BEGIN:VCALENDAR
PRODID:-//AT Content Types//AT Event//EN
VERSION:1.0
BEGIN:VEVENT
DTSTART:20070221T083000Z
DTEND:20070221T103000Z
DCREATED:20070129T162442Z
UID:ATEvent-96f9b6aef1273a16a352ef0d6b93a0c4
SEQUENCE:0
LAST-MODIFIED:20090123T152017Z
SUMMARY:Yoga-Jogging
DESCRIPTION:Fit in den Frühling mit Yoga-Jogging!
LOCATION:Café Aufbruch\, Hintere Schildstr. 18\, Dortmund-Hörde
PRIORITY:3
TRANSP:0
END:VEVENT
END:VCALENDAR
