BEGIN:VCALENDAR
PRODID:-//AT Content Types//AT Event//EN
VERSION:2.0
METHOD:PUBLISH
BEGIN:VEVENT
DTSTAMP:20260421T112353Z
CREATED:20070129T163646Z
UID:ATEvent-97d39b906699ab74894cbd220b635ab7
LAST-MODIFIED:20090123T152016Z
SUMMARY:Tischpuppen Basteln für Märchenaufführung
DTSTART:20070213T170000Z
DTEND:20070213T190000Z
DESCRIPTION:Es werden Tischpuppen gebastelt und eine Märchenaufführu
 ng vorbereitet
LOCATION:Café Aufbruch\, Hintere Schildstr. 18\, Dortmund-Hörde
CATEGORIES:Kreativwerkstatt
CLASS:PUBLIC
END:VEVENT
END:VCALENDAR
