BEGIN:VCALENDAR
PRODID:-//AT Content Types//AT Event//EN
VERSION:2.0
METHOD:PUBLISH
BEGIN:VEVENT
DTSTAMP:20260421T112058Z
CREATED:20070129T181505Z
UID:ATEvent-d5dc311800276b851de46ce57acbcb29
LAST-MODIFIED:20090123T152016Z
SUMMARY:Lesung mit Helga Sauer
DTSTART:20070204T140000Z
DTEND:20070204T160000Z
DESCRIPTION:Die Autorin Helga Sauer liest aus ihren Büchern "Schaupla
 tz Schule" und "Tierisch tolle Begegnungen"
LOCATION:Café Aufbruch\, Hintere Schildstr. 18\, Dortmund-Hörde
CATEGORIES:Lesung
URL:http://www.dhv-hochschulverlag.de/buch14.htm
CLASS:PUBLIC
END:VEVENT
END:VCALENDAR
