BEGIN:VCALENDAR
PRODID:-//AT Content Types//AT Event//EN
VERSION:2.0
METHOD:PUBLISH
BEGIN:VEVENT
DTSTAMP:20260419T132005Z
CREATED:20260328T125402Z
UID:ATEvent-e1cb99f5615e0d9ac11edf2b0f306e08
LAST-MODIFIED:20260328T130312Z
SUMMARY:Spiritueller Frauenstammtisch
DTSTART:20260423T170000Z
DTEND:20260423T170000Z
LOCATION:Café Aufbruch\, Hintere Schildstr. 18\, Dortmund-Hörde
CLASS:PUBLIC
END:VEVENT
END:VCALENDAR
